BEGIN:VCALENDAR
VERSION:2.0
PRODID:-//SCATS Gymnastics - ECPv6.15.18//NONSGML v1.0//EN
CALSCALE:GREGORIAN
METHOD:PUBLISH
X-WR-CALNAME:SCATS Gymnastics
X-ORIGINAL-URL:https://scatsgymnastics.com
X-WR-CALDESC:Events for SCATS Gymnastics
REFRESH-INTERVAL;VALUE=DURATION:PT1H
X-Robots-Tag:noindex
X-PUBLISHED-TTL:PT1H
BEGIN:VTIMEZONE
TZID:America/Los_Angeles
BEGIN:DAYLIGHT
TZOFFSETFROM:-0800
TZOFFSETTO:-0700
TZNAME:PDT
DTSTART:20180311T100000
END:DAYLIGHT
BEGIN:STANDARD
TZOFFSETFROM:-0700
TZOFFSETTO:-0800
TZNAME:PST
DTSTART:20181104T090000
END:STANDARD
BEGIN:DAYLIGHT
TZOFFSETFROM:-0800
TZOFFSETTO:-0700
TZNAME:PDT
DTSTART:20190310T100000
END:DAYLIGHT
BEGIN:STANDARD
TZOFFSETFROM:-0700
TZOFFSETTO:-0800
TZNAME:PST
DTSTART:20191103T090000
END:STANDARD
BEGIN:DAYLIGHT
TZOFFSETFROM:-0800
TZOFFSETTO:-0700
TZNAME:PDT
DTSTART:20200308T100000
END:DAYLIGHT
BEGIN:STANDARD
TZOFFSETFROM:-0700
TZOFFSETTO:-0800
TZNAME:PST
DTSTART:20201101T090000
END:STANDARD
BEGIN:DAYLIGHT
TZOFFSETFROM:-0800
TZOFFSETTO:-0700
TZNAME:PDT
DTSTART:20210314T100000
END:DAYLIGHT
BEGIN:STANDARD
TZOFFSETFROM:-0700
TZOFFSETTO:-0800
TZNAME:PST
DTSTART:20211107T090000
END:STANDARD
END:VTIMEZONE
BEGIN:VEVENT
DTSTART;TZID=America/Los_Angeles:20200125T150000
DTEND;TZID=America/Los_Angeles:20200125T180000
DTSTAMP:20260422T035135
CREATED:20191218T015648Z
LAST-MODIFIED:20191228T020359Z
UID:12640-1579964400-1579975200@scatsgymnastics.com
SUMMARY:Team Abigail "Night Out" Charity Event
DESCRIPTION:In May 2016\, the world lost a wonderful and brave 9 year old girl with a huge heart\, whom we’d been fortunate enough to have as part of our extended family here at SCATS since she was only 2.  Since 2014\, Abigail Caplan-Jones had been slowly winning her fight with a rare form of bone cancer akin to Ewing’s Sarcoma. The battle turned unexpectedly in the spring\, however\, and ended tragically only 2 months after her 9th birthday.  We had established an ancillary fund at the time for her family to offset expenses associated with her treatment. The response and outpouring was both astounding and heartwarming. Over $40\,000 was raised for the Caplan-Jones family in GoFundMe contributions and via a number of local special events.  \nOn January 25th we’re hosting another special event in Abigail’s name\, and this time to help the countless other families that battle fiercely like the Caplan-Jones’ did and still do for children with cancer.  \nPlease have your little gymnasts and their friends join us on Saturday the 25th from 3 to 6 PM to have some fun in the gym the way Abigail would if she could be here with us.  There is only a minimum donation of $25 per child (cash only please\, or checks made out to PCRF). Our staff is donating their time to participate that night\, Valuetina’s is donating pizza for the kids\, and 100% of proceeds benefit the Pediatric Cancer Research Foundation (PCRF).  We’re taking sign-ups already\, so save your spot because space may be limited.  \nThank you to all those that supported Abigail and family on their hardest days and join us in the new year to continue her valiant battle. We look forward to a full gym in her name. 
URL:https://scatsgymnastics.com/event/team-abigail-night-out-charity-event/
LOCATION:SCATS Gymnastics\, 5742 McFadden Avenue\, Huntington Beach\, 92649\, United States
CATEGORIES:Community Event,Fundraiser,Parents' Night Out,Special Event
ATTACH;FMTTYPE=image/jpeg:https://scatsgymnastics.com/wp-content/uploads/2019/12/Twilight-Abigail-scaled.jpg
ORGANIZER;CN="SCATS Gymnastics":MAILTO:info@www.scatsgymnastics.com
END:VEVENT
BEGIN:VEVENT
DTSTART;TZID=America/Los_Angeles:20190406T150000
DTEND;TZID=America/Los_Angeles:20190406T180000
DTSTAMP:20260422T035135
CREATED:20190406T021143Z
LAST-MODIFIED:20190406T021143Z
UID:8705-1554562800-1554573600@scatsgymnastics.com
SUMMARY:"Save-A-Life" Night Out Event
DESCRIPTION:We have a fun night planned for Saturday April 6th here at SCATS. And while we have a lot of those throughout the year in our gym\, this one is special. 100% of pro-ceeds from this “Parents’ Night Out” event will benefit the “A Home 4 Ever” and “Karla’s Pack” animal rescues\, two great organizations devoted to helping animals in need.  \nPlease join us on April 6th from 3 to 6 PM to have a blast in the gym in support of their unified cause of helping to find animals of all species and ages the forever homes they desperately need. Our staff is donating their time to participate that night\, and there is only a minimum donation of $25 per child to attend. We will also be displaying a bin in the front office through April for donations of food and pet supplies for the furry residents of the rescues. Look for more details soon\, including which supplies are most needed at the moment.  \nWe’ll be taking sign-ups as of today for our event\, so save your spot— space may be limited! Inquire up front on how to donate directly to the rescues and learn more about the great work they’ve done for animal welfare. Most importantly\, if you’re looking for a new member of the family in a cat or dog\, look no further than “A Home 4 Ever” and Karla’s Pack for your new furrever friend! \nLet’s adopt\, not shop!
URL:https://scatsgymnastics.com/event/save-a-life-night-out-event/
LOCATION:SCATS Gymnastics\, 5742 McFadden Avenue\, Huntington Beach\, 92649\, United States
CATEGORIES:Fundraiser,Parents' Night Out,Special Event
ATTACH;FMTTYPE=image/png:https://scatsgymnastics.com/wp-content/uploads/2019/04/Pet-Friends.png
ORGANIZER;CN="SCATS Gymnastics":MAILTO:info@www.scatsgymnastics.com
END:VEVENT
END:VCALENDAR